BEGIN:VCALENDAR
VERSION:2.0
PRODID:floktu.com
X-WR-TIMEZONE:Australia/Sydney
X-PUBLISHED-TTL:P1W
BEGIN:VEVENT
UID:FloktuSchedule18776@floktu.com
DTSTART;TZID=Australia/Sydney:20141004T133000
SEQUENCE:0
TRANSP:OPAQUE
DTEND;TZID=Australia/Sydney:20141004T150000
LOCATION:48 Watt Street\, 48 Watt St\, Newcastle\, New South Wales
SUMMARY:This is Not Art - Contemporary Dance Workshop
DESCRIPTION:Explore your own physicality through dance and movement in this
  contemporary dance workshop taught by Alex Andrews and Brianna Kell. No e
 xperience necessary\, just a desire to move\, slide on in\, and give it a 
 go.
DTSTAMP:20260420T210016Z
END:VEVENT
BEGIN:VTIMEZONE
TZID:Australia/Sydney
X-LIC-LOCATION:Australia/Sydney
END:VTIMEZONE
END:VCALENDAR