BEGIN:VCALENDAR
VERSION:2.0
PRODID:floktu.com
X-PUBLISHED-TTL:P1W
BEGIN:VEVENT
UID:FloktuSchedule18768@floktu.com
DTSTART:20141004T114500Z
SEQUENCE:0
TRANSP:OPAQUE
DTEND:20141004T123000Z
LOCATION:The Crack House\, 854 Hunter Street\, Newcastle West\, New South W
 ales
SUMMARY:This is Not Art - Scattershot
DESCRIPTION:A ten scene love story in a random order each performance. From
  meeting to breaking up to breaking up again.
DTSTAMP:20260426T094349Z
END:VEVENT
END:VCALENDAR