BEGIN:VCALENDAR
VERSION:2.0
PRODID:floktu.com
X-PUBLISHED-TTL:P1W
BEGIN:VEVENT
UID:FloktuSchedule18718@floktu.com
DTSTART:20141004T101500Z
SEQUENCE:0
TRANSP:OPAQUE
DTEND:20141004T110000Z
LOCATION:The Crack House\, 854 Hunter Street\, Newcastle West\, New South W
 ales
SUMMARY:This is Not Art - Salt
DESCRIPTION:A continuum of harvest. Salty. Salt. Heralding Salt. Need. Salt
 .
DTSTAMP:20260420T205723Z
END:VEVENT
END:VCALENDAR