BEGIN:VCALENDAR
VERSION:2.0
PRODID:floktu.com
X-WR-TIMEZONE:Australia/Sydney
X-PUBLISHED-TTL:P1W
BEGIN:VEVENT
UID:FloktuSchedule18717@floktu.com
DTSTART;TZID=Australia/Sydney:20141003T171500
SEQUENCE:0
TRANSP:OPAQUE
DTEND;TZID=Australia/Sydney:20141003T180000
LOCATION:The Crack House\, 854 Hunter Street\, Newcastle West\, New South W
 ales
SUMMARY:This is Not Art - Salt
DESCRIPTION:A continuum of harvest. Salty. Salt. Heralding Salt. Need. Salt
 .
DTSTAMP:20260420T205800Z
END:VEVENT
BEGIN:VTIMEZONE
TZID:Australia/Sydney
X-LIC-LOCATION:Australia/Sydney
END:VTIMEZONE
END:VCALENDAR