BEGIN:VCALENDAR
VERSION:2.0
PRODID:floktu.com
X-WR-TIMEZONE:Australia/Sydney
X-PUBLISHED-TTL:P1W
BEGIN:VEVENT
UID:FloktuSchedule18865@floktu.com
DTSTART;TZID=Australia/Sydney:20141004T140000
SEQUENCE:0
TRANSP:OPAQUE
DTEND;TZID=Australia/Sydney:20141004T143000
LOCATION:Newcastle\, \, Newcastle\, New South Wales
SUMMARY:This is Not Art - Far Flung
DESCRIPTION:Relationships and distance... an unhappy mix? Choose your time\
 , choose your venue and join the story as it unfolds. Held in various venu
 es\, including The Edwards\, The Store and Hunter Design School.\n\nThis p
 roject was supported thorough Creative Partnerships Australias pilot progr
 am - MATCH: Crowdfunding for the Independent Arts Sector  which helped sti
 mulate new artistic work by matching funds raised by independent artists c
 rowdfunding campaigns\, dollar-for-dollar.
DTSTAMP:20260421T185257Z
END:VEVENT
BEGIN:VTIMEZONE
TZID:Australia/Sydney
X-LIC-LOCATION:Australia/Sydney
END:VTIMEZONE
END:VCALENDAR