BEGIN:VCALENDAR
VERSION:2.0
PRODID:floktu.com
X-PUBLISHED-TTL:P1W
BEGIN:VEVENT
UID:FloktuSchedule18865@floktu.com
DTSTART:20141004T040000Z
SEQUENCE:0
TRANSP:OPAQUE
DTEND:20141004T043000Z
LOCATION:Newcastle\, \, Newcastle\, New South Wales
SUMMARY:This is Not Art - Far Flung
DESCRIPTION:Relationships and distance... an unhappy mix? Choose your time\
 , choose your venue and join the story as it unfolds. Held in various venu
 es\, including The Edwards\, The Store and Hunter Design School.\n\nThis p
 roject was supported thorough Creative Partnerships Australias pilot progr
 am - MATCH: Crowdfunding for the Independent Arts Sector  which helped sti
 mulate new artistic work by matching funds raised by independent artists c
 rowdfunding campaigns\, dollar-for-dollar.
DTSTAMP:20260421T185811Z
END:VEVENT
END:VCALENDAR