BEGIN:VCALENDAR
VERSION:2.0
PRODID:floktu.com
X-WR-TIMEZONE:Australia/Sydney
X-PUBLISHED-TTL:P1W
BEGIN:VEVENT
UID:FloktuSchedule18860@floktu.com
DTSTART;TZID=Australia/Sydney:20141003T170000
SEQUENCE:0
TRANSP:OPAQUE
DTEND;TZID=Australia/Sydney:20141003T180000
LOCATION:48 Watt Street\, 48 Watt St\, Newcastle\, New South Wales
SUMMARY:This is Not Art - Creating the Story
DESCRIPTION:Journalism is an exacting\, often challenging\, high-pressured 
 form of career writing. These young writing professionals chat about the p
 racticalities\, tensions and moralities of being a young journalist in the
  modern day environment: where journalists get stories from\, marketing vs
  journalism and the pressures of working for large organisation with struc
 tural agendas.
DTSTAMP:20260423T061207Z
END:VEVENT
BEGIN:VTIMEZONE
TZID:Australia/Sydney
X-LIC-LOCATION:Australia/Sydney
END:VTIMEZONE
END:VCALENDAR