BEGIN:VCALENDAR
VERSION:2.0
PRODID:floktu.com
X-PUBLISHED-TTL:P1W
BEGIN:VEVENT
UID:FloktuSchedule18860@floktu.com
DTSTART:20141003T070000Z
SEQUENCE:0
TRANSP:OPAQUE
DTEND:20141003T080000Z
LOCATION:48 Watt Street\, 48 Watt St\, Newcastle\, New South Wales
SUMMARY:This is Not Art - Creating the Story
DESCRIPTION:Journalism is an exacting\, often challenging\, high-pressured 
 form of career writing. These young writing professionals chat about the p
 racticalities\, tensions and moralities of being a young journalist in the
  modern day environment: where journalists get stories from\, marketing vs
  journalism and the pressures of working for large organisation with struc
 tural agendas.
DTSTAMP:20260423T060844Z
END:VEVENT
END:VCALENDAR