BEGIN:VCALENDAR
VERSION:2.0
PRODID:floktu.com
X-WR-TIMEZONE:Australia/Sydney
X-PUBLISHED-TTL:P1W
BEGIN:VEVENT
UID:FloktuSchedule18847@floktu.com
DTSTART;TZID=Australia/Sydney:20141004T160000
SEQUENCE:0
TRANSP:OPAQUE
DTEND;TZID=Australia/Sydney:20141004T170000
LOCATION:Elderly Citizens Centre\, Laing St\, Newcastle\, New South Wales
SUMMARY:This is Not Art - Get a Real Job
DESCRIPTION:Sick of being asked about your plan b when that writing thing d
 oesnt work out? Come meet some writers whove made writing their day job.
DTSTAMP:20260422T224434Z
END:VEVENT
BEGIN:VTIMEZONE
TZID:Australia/Sydney
X-LIC-LOCATION:Australia/Sydney
END:VTIMEZONE
END:VCALENDAR