BEGIN:VCALENDAR
VERSION:2.0
PRODID:floktu.com
X-PUBLISHED-TTL:P1W
BEGIN:VEVENT
UID:FloktuSchedule18847@floktu.com
DTSTART:20141004T060000Z
SEQUENCE:0
TRANSP:OPAQUE
DTEND:20141004T070000Z
LOCATION:Elderly Citizens Centre\, Laing St\, Newcastle\, New South Wales
SUMMARY:This is Not Art - Get a Real Job
DESCRIPTION:Sick of being asked about your plan b when that writing thing d
 oesnt work out? Come meet some writers whove made writing their day job.
DTSTAMP:20260422T224818Z
END:VEVENT
END:VCALENDAR