BEGIN:VCALENDAR
VERSION:2.0
PRODID:floktu.com
X-WR-TIMEZONE:Australia/Sydney
X-PUBLISHED-TTL:P1W
BEGIN:VEVENT
UID:FloktuSchedule18845@floktu.com
DTSTART;TZID=Australia/Sydney:20141005T120000
SEQUENCE:0
TRANSP:OPAQUE
DTEND;TZID=Australia/Sydney:20141005T130000
LOCATION:48 Watt Street\, 48 Watt St\, Newcastle\, New South Wales
SUMMARY:This is Not Art - Alone in the Night
DESCRIPTION:What happens late at night when you're all alone? Do you find t
 he dark hours times of creative fury or gaping holes of terror? Some the m
 ost intriguing ideas come out of the darkest hours.
DTSTAMP:20260423T053826Z
END:VEVENT
BEGIN:VTIMEZONE
TZID:Australia/Sydney
X-LIC-LOCATION:Australia/Sydney
END:VTIMEZONE
END:VCALENDAR