BEGIN:VCALENDAR
VERSION:2.0
PRODID:floktu.com
X-PUBLISHED-TTL:P1W
BEGIN:VEVENT
UID:FloktuSchedule18845@floktu.com
DTSTART:20141005T010000Z
SEQUENCE:0
TRANSP:OPAQUE
DTEND:20141005T020000Z
LOCATION:48 Watt Street\, 48 Watt St\, Newcastle\, New South Wales
SUMMARY:This is Not Art - Alone in the Night
DESCRIPTION:What happens late at night when you're all alone? Do you find t
 he dark hours times of creative fury or gaping holes of terror? Some the m
 ost intriguing ideas come out of the darkest hours.
DTSTAMP:20260423T070902Z
END:VEVENT
END:VCALENDAR