BEGIN:VCALENDAR
VERSION:2.0
PRODID:floktu.com
X-PUBLISHED-TTL:P1W
BEGIN:VEVENT
UID:FloktuSchedule18844@floktu.com
DTSTART:20141004T060000Z
SEQUENCE:0
TRANSP:OPAQUE
DTEND:20141004T070000Z
LOCATION:The Royal Exchange\, 32-34 Bolton St\, Newcastle\, New South Wales
SUMMARY:This is Not Art - Spilling Your Guts
DESCRIPTION:Is there something addictive about laying your life out for the
  world to see? And how do you deal with the aftermath to your revelations?
DTSTAMP:20260423T053827Z
END:VEVENT
END:VCALENDAR