BEGIN:VCALENDAR
VERSION:2.0
PRODID:floktu.com
X-WR-TIMEZONE:Australia/Sydney
X-PUBLISHED-TTL:P1W
BEGIN:VEVENT
UID:FloktuSchedule18843@floktu.com
DTSTART;TZID=Australia/Sydney:20141005T140000
SEQUENCE:0
TRANSP:OPAQUE
DTEND;TZID=Australia/Sydney:20141005T150000
LOCATION:The Royal Exchange\, 32-34 Bolton St\, Newcastle\, New South Wales
SUMMARY:This is Not Art - What’s so great about the novel?
DESCRIPTION:The novel has long been held up as the ultimate format\, and pu
 blishers still seem to be stuck on it. Explore the beauty and limitations 
 of this much loved and hated format.
DTSTAMP:20260423T053357Z
END:VEVENT
BEGIN:VTIMEZONE
TZID:Australia/Sydney
X-LIC-LOCATION:Australia/Sydney
END:VTIMEZONE
END:VCALENDAR