BEGIN:VCALENDAR
VERSION:2.0
PRODID:floktu.com
X-PUBLISHED-TTL:P1W
BEGIN:VEVENT
UID:FloktuSchedule18843@floktu.com
DTSTART:20141005T030000Z
SEQUENCE:0
TRANSP:OPAQUE
DTEND:20141005T040000Z
LOCATION:The Royal Exchange\, 32-34 Bolton St\, Newcastle\, New South Wales
SUMMARY:This is Not Art - What’s so great about the novel?
DESCRIPTION:The novel has long been held up as the ultimate format\, and pu
 blishers still seem to be stuck on it. Explore the beauty and limitations 
 of this much loved and hated format.
DTSTAMP:20260423T054048Z
END:VEVENT
END:VCALENDAR