BEGIN:VCALENDAR
VERSION:2.0
PRODID:floktu.com
X-WR-TIMEZONE:Australia/Sydney
X-PUBLISHED-TTL:P1W
BEGIN:VEVENT
UID:FloktuSchedule18842@floktu.com
DTSTART;TZID=Australia/Sydney:20141003T120000
SEQUENCE:0
TRANSP:OPAQUE
DTEND;TZID=Australia/Sydney:20141003T130000
LOCATION:Hunter Design School\, Parry St\, \, NSW
SUMMARY:This is Not Art - Free Speech or Hate Speech?
DESCRIPTION:Free and creative use of language is essential as a writer\, bu
 t where does free speech become hate speech and what does that mean for th
 ose who write? Supported by Government of WA Department of Culture and the
  Arts.
DTSTAMP:20260423T083438Z
END:VEVENT
BEGIN:VTIMEZONE
TZID:Australia/Sydney
X-LIC-LOCATION:Australia/Sydney
END:VTIMEZONE
END:VCALENDAR