BEGIN:VCALENDAR
VERSION:2.0
PRODID:floktu.com
X-PUBLISHED-TTL:P1W
BEGIN:VEVENT
UID:FloktuSchedule18842@floktu.com
DTSTART:20141003T020000Z
SEQUENCE:0
TRANSP:OPAQUE
DTEND:20141003T030000Z
LOCATION:Hunter Design School\, Parry St\, \, NSW
SUMMARY:This is Not Art - Free Speech or Hate Speech?
DESCRIPTION:Free and creative use of language is essential as a writer\, bu
 t where does free speech become hate speech and what does that mean for th
 ose who write? Supported by Government of WA Department of Culture and the
  Arts.
DTSTAMP:20260423T083237Z
END:VEVENT
END:VCALENDAR