BEGIN:VCALENDAR
VERSION:2.0
PRODID:floktu.com
X-WR-TIMEZONE:Australia/Sydney
X-PUBLISHED-TTL:P1W
BEGIN:VEVENT
UID:FloktuSchedule18841@floktu.com
DTSTART;TZID=Australia/Sydney:20141005T120000
SEQUENCE:0
TRANSP:OPAQUE
DTEND;TZID=Australia/Sydney:20141005T130000
LOCATION:The Royal Exchange\, 32-34 Bolton St\, Newcastle\, New South Wales
SUMMARY:This is Not Art - Speaking in Tongues
DESCRIPTION:When language is your greatest tool\, is having a second\, thir
 d or fourth language a help or hindrance? What influence does growing up w
 ith multiple languages have on writers? Supported by SA Writers' Centre.
DTSTAMP:20260423T022011Z
END:VEVENT
BEGIN:VTIMEZONE
TZID:Australia/Sydney
X-LIC-LOCATION:Australia/Sydney
END:VTIMEZONE
END:VCALENDAR