BEGIN:VCALENDAR
VERSION:2.0
PRODID:floktu.com
X-WR-TIMEZONE:Australia/Sydney
X-PUBLISHED-TTL:P1W
BEGIN:VEVENT
UID:FloktuSchedule18837@floktu.com
DTSTART;TZID=Australia/Sydney:20141003T100000
SEQUENCE:0
TRANSP:OPAQUE
DTEND;TZID=Australia/Sydney:20141003T120000
LOCATION:Staple Manor\, Lvl 2\, 152-160 Hunter Street\, Newcastle\, New Sou
 th Wales
SUMMARY:This is Not Art - Writing Sex
DESCRIPTION:Writing sex is hard! Join Emma Jones\, who knows her way around
  the sexy in prose\, in an intimate workshop that will get your (creative)
  juices flowing.
DTSTAMP:20260423T054206Z
END:VEVENT
BEGIN:VTIMEZONE
TZID:Australia/Sydney
X-LIC-LOCATION:Australia/Sydney
END:VTIMEZONE
END:VCALENDAR