BEGIN:VCALENDAR
VERSION:2.0
PRODID:floktu.com
X-PUBLISHED-TTL:P1W
BEGIN:VEVENT
UID:FloktuSchedule18837@floktu.com
DTSTART:20141003T000000Z
SEQUENCE:0
TRANSP:OPAQUE
DTEND:20141003T020000Z
LOCATION:Staple Manor\, Lvl 2\, 152-160 Hunter Street\, Newcastle\, New Sou
 th Wales
SUMMARY:This is Not Art - Writing Sex
DESCRIPTION:Writing sex is hard! Join Emma Jones\, who knows her way around
  the sexy in prose\, in an intimate workshop that will get your (creative)
  juices flowing.
DTSTAMP:20260423T054140Z
END:VEVENT
END:VCALENDAR