BEGIN:VCALENDAR
VERSION:2.0
PRODID:floktu.com
X-PUBLISHED-TTL:P1W
BEGIN:VEVENT
UID:FloktuSchedule18836@floktu.com
DTSTART:20141003T060000Z
SEQUENCE:0
TRANSP:OPAQUE
DTEND:20141003T080000Z
LOCATION:Staple Manor\, Lvl 2\, 152-160 Hunter Street\, Newcastle\, New Sou
 th Wales
SUMMARY:This is Not Art - Drawing for Writers\, Writing for Drawers
DESCRIPTION:Grab a pen and head to Staple Manor for some cross disciplinary
  fun\, featuring a combination of word games\, picture games and game game
 s. Drawing! Writing! Friends!
DTSTAMP:20260423T053919Z
END:VEVENT
END:VCALENDAR