BEGIN:VCALENDAR
VERSION:2.0
PRODID:floktu.com
X-WR-TIMEZONE:Australia/Sydney
X-PUBLISHED-TTL:P1W
BEGIN:VEVENT
UID:FloktuSchedule18826@floktu.com
DTSTART;TZID=Australia/Sydney:20141004T090000
SEQUENCE:0
TRANSP:OPAQUE
DTEND;TZID=Australia/Sydney:20141004T100000
LOCATION:Staple Manor\, Lvl 2\, 152-160 Hunter Street\, Newcastle\, New Sou
 th Wales
SUMMARY:This is Not Art - Breakfast Book Club: The Book That Made You Seeth
 e
DESCRIPTION:Is there anything better than a chat about books over breakfast
 ? Start your day with authors talking about books that have changed\, shoc
 ked\, moved and inspired them.
DTSTAMP:20260423T091329Z
END:VEVENT
BEGIN:VTIMEZONE
TZID:Australia/Sydney
X-LIC-LOCATION:Australia/Sydney
END:VTIMEZONE
END:VCALENDAR