BEGIN:VCALENDAR
VERSION:2.0
PRODID:floktu.com
X-PUBLISHED-TTL:P1W
BEGIN:VEVENT
UID:FloktuSchedule18826@floktu.com
DTSTART:20141003T230000Z
SEQUENCE:0
TRANSP:OPAQUE
DTEND:20141004T000000Z
LOCATION:Staple Manor\, Lvl 2\, 152-160 Hunter Street\, Newcastle\, New Sou
 th Wales
SUMMARY:This is Not Art - Breakfast Book Club: The Book That Made You Seeth
 e
DESCRIPTION:Is there anything better than a chat about books over breakfast
 ? Start your day with authors talking about books that have changed\, shoc
 ked\, moved and inspired them.
DTSTAMP:20260423T110313Z
END:VEVENT
END:VCALENDAR