BEGIN:VCALENDAR
VERSION:2.0
PRODID:floktu.com
X-PUBLISHED-TTL:P1W
BEGIN:VEVENT
UID:FloktuSchedule18823@floktu.com
DTSTART:20141005T000000Z
SEQUENCE:0
TRANSP:OPAQUE
DTEND:20141005T010000Z
LOCATION:The Royal Exchange\, 32-34 Bolton St\, Newcastle\, New South Wales
SUMMARY:This is Not Art - Exodus
DESCRIPTION:Around the country a brain drain is taking artists from smaller
  towns to the big cities. Talk with writers who made the move from their h
 ometown to the big smoke.
DTSTAMP:20260423T060718Z
END:VEVENT
END:VCALENDAR