BEGIN:VCALENDAR
VERSION:2.0
PRODID:floktu.com
X-WR-TIMEZONE:Australia/Sydney
X-PUBLISHED-TTL:P1W
BEGIN:VEVENT
UID:FloktuSchedule18821@floktu.com
DTSTART;TZID=Australia/Sydney:20141003T220000
SEQUENCE:0
TRANSP:OPAQUE
DTEND;TZID=Australia/Sydney:20141003T230000
LOCATION:The Royal Exchange\, 32-34 Bolton St\, Newcastle\, New South Wales
SUMMARY:This is Not Art - In the Parlour with the Lead Pipe - Crime Late Ni
 ght Reading
DESCRIPTION:Get gritty and grueseome with some of the festival's most dange
 rous writers. Late night stories filled with lawlessness - from arson to a
 ssault\, burglary to blackmail.
DTSTAMP:20260422T224530Z
END:VEVENT
BEGIN:VTIMEZONE
TZID:Australia/Sydney
X-LIC-LOCATION:Australia/Sydney
END:VTIMEZONE
END:VCALENDAR