BEGIN:VCALENDAR
VERSION:2.0
PRODID:floktu.com
X-PUBLISHED-TTL:P1W
BEGIN:VEVENT
UID:FloktuSchedule18821@floktu.com
DTSTART:20141003T120000Z
SEQUENCE:0
TRANSP:OPAQUE
DTEND:20141003T130000Z
LOCATION:The Royal Exchange\, 32-34 Bolton St\, Newcastle\, New South Wales
SUMMARY:This is Not Art - In the Parlour with the Lead Pipe - Crime Late Ni
 ght Reading
DESCRIPTION:Get gritty and grueseome with some of the festival's most dange
 rous writers. Late night stories filled with lawlessness - from arson to a
 ssault\, burglary to blackmail.
DTSTAMP:20260422T225426Z
END:VEVENT
END:VCALENDAR