BEGIN:VCALENDAR
VERSION:2.0
PRODID:floktu.com
X-WR-TIMEZONE:Australia/Sydney
X-PUBLISHED-TTL:P1W
BEGIN:VEVENT
UID:FloktuSchedule18819@floktu.com
DTSTART;TZID=Australia/Sydney:20141004T150000
SEQUENCE:0
TRANSP:OPAQUE
DTEND;TZID=Australia/Sydney:20141004T160000
LOCATION:Hunter Design School\, Parry St\, \, NSW
SUMMARY:This is Not Art - A Captive Audience
DESCRIPTION:Do artists have a responsibilty to use their art for good? Shou
 ld books just aim to be entertaining? These writers discuss using your wri
 ting as a platform for sneaky preaching.
DTSTAMP:20260422T230444Z
END:VEVENT
BEGIN:VTIMEZONE
TZID:Australia/Sydney
X-LIC-LOCATION:Australia/Sydney
END:VTIMEZONE
END:VCALENDAR