BEGIN:VCALENDAR
VERSION:2.0
PRODID:floktu.com
X-PUBLISHED-TTL:P1W
BEGIN:VEVENT
UID:FloktuSchedule18819@floktu.com
DTSTART:20141004T050000Z
SEQUENCE:0
TRANSP:OPAQUE
DTEND:20141004T060000Z
LOCATION:Hunter Design School\, Parry St\, \, NSW
SUMMARY:This is Not Art - A Captive Audience
DESCRIPTION:Do artists have a responsibilty to use their art for good? Shou
 ld books just aim to be entertaining? These writers discuss using your wri
 ting as a platform for sneaky preaching.
DTSTAMP:20260422T230133Z
END:VEVENT
END:VCALENDAR