BEGIN:VCALENDAR
VERSION:2.0
PRODID:floktu.com
X-WR-TIMEZONE:Australia/Sydney
X-PUBLISHED-TTL:P1W
BEGIN:VEVENT
UID:FloktuSchedule18818@floktu.com
DTSTART;TZID=Australia/Sydney:20141003T170000
SEQUENCE:0
TRANSP:OPAQUE
DTEND;TZID=Australia/Sydney:20141003T180000
LOCATION:The Royal Exchange\, 32-34 Bolton St\, Newcastle\, New South Wales
SUMMARY:This is Not Art - Writers' Other Jobs
DESCRIPTION:A live Writer's Bloc session of Writers' Other Jobs - find out 
 what strange\, wonderful and mundane jobs these writers have done outside 
 writing to bring in the bacon. Supported by ACT Writers Centre.
DTSTAMP:20260422T224853Z
END:VEVENT
BEGIN:VTIMEZONE
TZID:Australia/Sydney
X-LIC-LOCATION:Australia/Sydney
END:VTIMEZONE
END:VCALENDAR