BEGIN:VCALENDAR
VERSION:2.0
PRODID:floktu.com
X-WR-TIMEZONE:Australia/Sydney
X-PUBLISHED-TTL:P1W
BEGIN:VEVENT
UID:FloktuSchedule18813@floktu.com
DTSTART;TZID=Australia/Sydney:20141003T233000
SEQUENCE:0
TRANSP:OPAQUE
DTEND;TZID=Australia/Sydney:20141005T160000
LOCATION:Newcastle\, \, Newcastle\, New South Wales
SUMMARY:This is Not Art - Pop-up Poetry
DESCRIPTION:Poetry taken to the street by some of Australia's freshest and 
 most dynamic new voices. Slammers\, rappers and spoken word artists are po
 pping up all over Newcastle to school you in the art of verse. Supported b
 y QLD Writers' Centre.
DTSTAMP:20260423T120641Z
END:VEVENT
BEGIN:VTIMEZONE
TZID:Australia/Sydney
X-LIC-LOCATION:Australia/Sydney
END:VTIMEZONE
END:VCALENDAR