BEGIN:VCALENDAR
VERSION:2.0
PRODID:floktu.com
X-WR-TIMEZONE:Australia/Sydney
X-PUBLISHED-TTL:P1W
BEGIN:VEVENT
UID:FloktuSchedule18812@floktu.com
DTSTART;TZID=Australia/Sydney:20141004T180000
SEQUENCE:0
TRANSP:OPAQUE
DTEND;TZID=Australia/Sydney:20141004T190000
LOCATION:The Lock Up\, 90 Hunter St\, Newcastle\, New South Wales
SUMMARY:This is Not Art - Ghost Stories
DESCRIPTION:Apparitions\, superstitions and things that go bump in the nigh
 t. These fabulous writers share tales of the supernatural and the circumst
 antial. Strap yourself in for a scare.
DTSTAMP:20260423T021448Z
END:VEVENT
BEGIN:VTIMEZONE
TZID:Australia/Sydney
X-LIC-LOCATION:Australia/Sydney
END:VTIMEZONE
END:VCALENDAR