BEGIN:VCALENDAR
VERSION:2.0
PRODID:floktu.com
X-PUBLISHED-TTL:P1W
BEGIN:VEVENT
UID:FloktuSchedule18812@floktu.com
DTSTART:20141004T080000Z
SEQUENCE:0
TRANSP:OPAQUE
DTEND:20141004T090000Z
LOCATION:The Lock Up\, 90 Hunter St\, Newcastle\, New South Wales
SUMMARY:This is Not Art - Ghost Stories
DESCRIPTION:Apparitions\, superstitions and things that go bump in the nigh
 t. These fabulous writers share tales of the supernatural and the circumst
 antial. Strap yourself in for a scare.
DTSTAMP:20260423T021500Z
END:VEVENT
END:VCALENDAR