BEGIN:VCALENDAR
VERSION:2.0
PRODID:floktu.com
X-WR-TIMEZONE:Australia/Sydney
X-PUBLISHED-TTL:P1W
BEGIN:VEVENT
UID:FloktuSchedule18810@floktu.com
DTSTART;TZID=Australia/Sydney:20141004T120000
SEQUENCE:0
TRANSP:OPAQUE
DTEND;TZID=Australia/Sydney:20141004T130000
LOCATION:Hunter Design School\, Parry St\, \, NSW
SUMMARY:This is Not Art - Mandatory Attention - the State of Immigration in
  Australia Today
DESCRIPTION:Immigration policy in Australia has always been a hotbed of con
 troversy\, and never more than right now. What do we\, as young writers\, 
 think about the mandatory detention system?
DTSTAMP:20260423T021202Z
END:VEVENT
BEGIN:VTIMEZONE
TZID:Australia/Sydney
X-LIC-LOCATION:Australia/Sydney
END:VTIMEZONE
END:VCALENDAR