BEGIN:VCALENDAR
VERSION:2.0
PRODID:floktu.com
X-PUBLISHED-TTL:P1W
BEGIN:VEVENT
UID:FloktuSchedule18810@floktu.com
DTSTART:20141004T020000Z
SEQUENCE:0
TRANSP:OPAQUE
DTEND:20141004T030000Z
LOCATION:Hunter Design School\, Parry St\, \, NSW
SUMMARY:This is Not Art - Mandatory Attention - the State of Immigration in
  Australia Today
DESCRIPTION:Immigration policy in Australia has always been a hotbed of con
 troversy\, and never more than right now. What do we\, as young writers\, 
 think about the mandatory detention system?
DTSTAMP:20260423T021622Z
END:VEVENT
END:VCALENDAR