BEGIN:VCALENDAR
VERSION:2.0
PRODID:floktu.com
X-WR-TIMEZONE:Australia/Sydney
X-PUBLISHED-TTL:P1W
BEGIN:VEVENT
UID:FloktuSchedule18807@floktu.com
DTSTART;TZID=Australia/Sydney:20141004T100000
SEQUENCE:0
TRANSP:OPAQUE
DTEND;TZID=Australia/Sydney:20141004T110000
LOCATION:The Royal Exchange\, 32-34 Bolton St\, Newcastle\, New South Wales
SUMMARY:This is Not Art - Best Job or Total Flop
DESCRIPTION:Editing is often held up as the perfect job for writers and rea
 ders alike\, but does the experience live up to the hype? Five editors cha
 t about editorial life.
DTSTAMP:20260422T225206Z
END:VEVENT
BEGIN:VTIMEZONE
TZID:Australia/Sydney
X-LIC-LOCATION:Australia/Sydney
END:VTIMEZONE
END:VCALENDAR