BEGIN:VCALENDAR
VERSION:2.0
PRODID:floktu.com
X-WR-TIMEZONE:Australia/Sydney
X-PUBLISHED-TTL:P1W
BEGIN:VEVENT
UID:FloktuSchedule18805@floktu.com
DTSTART;TZID=Australia/Sydney:20141005T100000
SEQUENCE:0
TRANSP:OPAQUE
DTEND;TZID=Australia/Sydney:20141005T110000
LOCATION:The Royal Exchange\, 32-34 Bolton St\, Newcastle\, New South Wales
SUMMARY:This is Not Art - Sweatshop Showcase
DESCRIPTION:SWEATSHOP is devoted to empowering Western Sydney communities t
 hrough literacy and critical thinking. Facilitating ongoing workshops and 
 programs\, SWEATSHOP is housed at the University of Western Sydney\, Banks
 town Campus.
DTSTAMP:20260422T225451Z
END:VEVENT
BEGIN:VTIMEZONE
TZID:Australia/Sydney
X-LIC-LOCATION:Australia/Sydney
END:VTIMEZONE
END:VCALENDAR