BEGIN:VCALENDAR
VERSION:2.0
PRODID:floktu.com
X-PUBLISHED-TTL:P1W
BEGIN:VEVENT
UID:FloktuSchedule18805@floktu.com
DTSTART:20141004T230000Z
SEQUENCE:0
TRANSP:OPAQUE
DTEND:20141005T000000Z
LOCATION:The Royal Exchange\, 32-34 Bolton St\, Newcastle\, New South Wales
SUMMARY:This is Not Art - Sweatshop Showcase
DESCRIPTION:SWEATSHOP is devoted to empowering Western Sydney communities t
 hrough literacy and critical thinking. Facilitating ongoing workshops and 
 programs\, SWEATSHOP is housed at the University of Western Sydney\, Banks
 town Campus.
DTSTAMP:20260422T225512Z
END:VEVENT
END:VCALENDAR