BEGIN:VCALENDAR
VERSION:2.0
PRODID:floktu.com
X-WR-TIMEZONE:Australia/Sydney
X-PUBLISHED-TTL:P1W
BEGIN:VEVENT
UID:FloktuSchedule18800@floktu.com
DTSTART;TZID=Australia/Sydney:20141003T140000
SEQUENCE:0
TRANSP:OPAQUE
DTEND;TZID=Australia/Sydney:20141003T150000
LOCATION:Gun Club\, 55 Watt St\, Newcastle\, New South Wales
SUMMARY:This is Not Art - The Critic's Identity
DESCRIPTION:Do you need to be a musician to write music criticism\; does a 
 food writer need to be a great cook? These critics delve into this space b
 etween practice and theory. Supported by Government of WA Department of Cu
 lture and the Arts.
DTSTAMP:20260423T051237Z
END:VEVENT
BEGIN:VTIMEZONE
TZID:Australia/Sydney
X-LIC-LOCATION:Australia/Sydney
END:VTIMEZONE
END:VCALENDAR