BEGIN:VCALENDAR
VERSION:2.0
PRODID:floktu.com
X-PUBLISHED-TTL:P1W
BEGIN:VEVENT
UID:FloktuSchedule18800@floktu.com
DTSTART:20141003T040000Z
SEQUENCE:0
TRANSP:OPAQUE
DTEND:20141003T050000Z
LOCATION:Gun Club\, 55 Watt St\, Newcastle\, New South Wales
SUMMARY:This is Not Art - The Critic's Identity
DESCRIPTION:Do you need to be a musician to write music criticism\; does a 
 food writer need to be a great cook? These critics delve into this space b
 etween practice and theory. Supported by Government of WA Department of Cu
 lture and the Arts.
DTSTAMP:20260423T065508Z
END:VEVENT
END:VCALENDAR