BEGIN:VCALENDAR
VERSION:2.0
PRODID:floktu.com
X-WR-TIMEZONE:Australia/Sydney
X-PUBLISHED-TTL:P1W
BEGIN:VEVENT
UID:FloktuSchedule18797@floktu.com
DTSTART;TZID=Australia/Sydney:20141005T200000
SEQUENCE:0
TRANSP:OPAQUE
DTEND;TZID=Australia/Sydney:20141005T220000
LOCATION:Cambridge Hotel\, 789 Hunter St\, Newcastle\, NSW
SUMMARY:This is Not Art - Play That Sexy Music
DESCRIPTION:What was on your first sex mix? A certain song turn you on or o
 ff? These hilarious writers discuss how music has\, for better or worse\, 
 impacted their sex lives.
DTSTAMP:20260422T224818Z
END:VEVENT
BEGIN:VTIMEZONE
TZID:Australia/Sydney
X-LIC-LOCATION:Australia/Sydney
END:VTIMEZONE
END:VCALENDAR