BEGIN:VCALENDAR
VERSION:2.0
PRODID:floktu.com
X-PUBLISHED-TTL:P1W
BEGIN:VEVENT
UID:FloktuSchedule18797@floktu.com
DTSTART:20141005T090000Z
SEQUENCE:0
TRANSP:OPAQUE
DTEND:20141005T110000Z
LOCATION:Cambridge Hotel\, 789 Hunter St\, Newcastle\, NSW
SUMMARY:This is Not Art - Play That Sexy Music
DESCRIPTION:What was on your first sex mix? A certain song turn you on or o
 ff? These hilarious writers discuss how music has\, for better or worse\, 
 impacted their sex lives.
DTSTAMP:20260422T224946Z
END:VEVENT
END:VCALENDAR