BEGIN:VCALENDAR
VERSION:2.0
PRODID:floktu.com
X-WR-TIMEZONE:Australia/Sydney
X-PUBLISHED-TTL:P1W
BEGIN:VEVENT
UID:FloktuSchedule18795@floktu.com
DTSTART;TZID=Australia/Sydney:20141003T110000
SEQUENCE:0
TRANSP:OPAQUE
DTEND;TZID=Australia/Sydney:20141003T120000
LOCATION:Gun Club\, 55 Watt St\, Newcastle\, New South Wales
SUMMARY:This is Not Art - Dear Diary
DESCRIPTION:Diary writing is an age-old tradition but what purpose do these
  scribblings serve? We find out with these brave souls willing to open up.
DTSTAMP:20260422T224757Z
END:VEVENT
BEGIN:VTIMEZONE
TZID:Australia/Sydney
X-LIC-LOCATION:Australia/Sydney
END:VTIMEZONE
END:VCALENDAR