BEGIN:VCALENDAR
VERSION:2.0
PRODID:floktu.com
X-PUBLISHED-TTL:P1W
BEGIN:VEVENT
UID:FloktuSchedule18795@floktu.com
DTSTART:20141003T010000Z
SEQUENCE:0
TRANSP:OPAQUE
DTEND:20141003T020000Z
LOCATION:Gun Club\, 55 Watt St\, Newcastle\, New South Wales
SUMMARY:This is Not Art - Dear Diary
DESCRIPTION:Diary writing is an age-old tradition but what purpose do these
  scribblings serve? We find out with these brave souls willing to open up.
DTSTAMP:20260422T225120Z
END:VEVENT
END:VCALENDAR