BEGIN:VCALENDAR
VERSION:2.0
PRODID:floktu.com
X-WR-TIMEZONE:Australia/Sydney
X-PUBLISHED-TTL:P1W
BEGIN:VEVENT
UID:FloktuSchedule18793@floktu.com
DTSTART;TZID=Australia/Sydney:20141005T170000
SEQUENCE:0
TRANSP:OPAQUE
DTEND;TZID=Australia/Sydney:20141005T180000
LOCATION:Cambridge Hotel\, 789 Hunter St\, Newcastle\, NSW
SUMMARY:This is Not Art - Is Jurassic Park A Thing That Should Really Happe
 n?
DESCRIPTION:A discussion around identity\, ownership and permission in writ
 ing. On why cis folks shouldn't try to speak for trans folk\, and if it's 
 ever okay to write about identities that are not your own.
DTSTAMP:20260423T001521Z
END:VEVENT
BEGIN:VTIMEZONE
TZID:Australia/Sydney
X-LIC-LOCATION:Australia/Sydney
END:VTIMEZONE
END:VCALENDAR