BEGIN:VCALENDAR
VERSION:2.0
PRODID:floktu.com
X-PUBLISHED-TTL:P1W
BEGIN:VEVENT
UID:FloktuSchedule18793@floktu.com
DTSTART:20141005T060000Z
SEQUENCE:0
TRANSP:OPAQUE
DTEND:20141005T070000Z
LOCATION:Cambridge Hotel\, 789 Hunter St\, Newcastle\, NSW
SUMMARY:This is Not Art - Is Jurassic Park A Thing That Should Really Happe
 n?
DESCRIPTION:A discussion around identity\, ownership and permission in writ
 ing. On why cis folks shouldn't try to speak for trans folk\, and if it's 
 ever okay to write about identities that are not your own.
DTSTAMP:20260423T001702Z
END:VEVENT
END:VCALENDAR