BEGIN:VCALENDAR
VERSION:2.0
PRODID:floktu.com
X-WR-TIMEZONE:Australia/Sydney
X-PUBLISHED-TTL:P1W
BEGIN:VEVENT
UID:FloktuSchedule18791@floktu.com
DTSTART;TZID=Australia/Sydney:20141005T110000
SEQUENCE:0
TRANSP:OPAQUE
DTEND;TZID=Australia/Sydney:20141005T120000
LOCATION:48 Watt Street\, 48 Watt St\, Newcastle\, New South Wales
SUMMARY:This is Not Art - Whose Identity Is It Anyway?
DESCRIPTION:A discussion around identity\, ownership and permission in writ
 ing. On why cis folks shouldn't try to speak for trans folk\, and if it's 
 ever okay to write about identities that are not your own.
DTSTAMP:20260422T211729Z
END:VEVENT
BEGIN:VTIMEZONE
TZID:Australia/Sydney
X-LIC-LOCATION:Australia/Sydney
END:VTIMEZONE
END:VCALENDAR