BEGIN:VCALENDAR
VERSION:2.0
PRODID:floktu.com
X-PUBLISHED-TTL:P1W
BEGIN:VEVENT
UID:FloktuSchedule18791@floktu.com
DTSTART:20141005T000000Z
SEQUENCE:0
TRANSP:OPAQUE
DTEND:20141005T010000Z
LOCATION:48 Watt Street\, 48 Watt St\, Newcastle\, New South Wales
SUMMARY:This is Not Art - Whose Identity Is It Anyway?
DESCRIPTION:A discussion around identity\, ownership and permission in writ
 ing. On why cis folks shouldn't try to speak for trans folk\, and if it's 
 ever okay to write about identities that are not your own.
DTSTAMP:20260422T212255Z
END:VEVENT
END:VCALENDAR