BEGIN:VCALENDAR
VERSION:2.0
PRODID:floktu.com
X-PUBLISHED-TTL:P1W
BEGIN:VEVENT
UID:FloktuSchedule18789@floktu.com
DTSTART:20141005T040000Z
SEQUENCE:0
TRANSP:OPAQUE
DTEND:20141005T050000Z
LOCATION:Gun Club\, 55 Watt St\, Newcastle\, New South Wales
SUMMARY:This is Not Art - Why YA?
DESCRIPTION:Huge books like The Hunger Games and The Fault in Our Stars are
  leading readers of all ages to this difficult to pin down genre. But what
  makes YA different to just A\, and why choose to write in this genre? Sup
 ported by SA Writers' Centre.
DTSTAMP:20260422T225125Z
END:VEVENT
END:VCALENDAR