BEGIN:VCALENDAR
VERSION:2.0
PRODID:floktu.com
X-WR-TIMEZONE:Australia/Sydney
X-PUBLISHED-TTL:P1W
BEGIN:VEVENT
UID:FloktuSchedule18766@floktu.com
DTSTART;TZID=Australia/Sydney:20141004T190000
SEQUENCE:0
TRANSP:OPAQUE
DTEND;TZID=Australia/Sydney:20141004T210000
LOCATION:The Crack House\, 854 Hunter Street\, Newcastle West\, New South W
 ales
SUMMARY:This is Not Art - The Evolutionary Straitjacket: Climate Change Kar
 aoke
DESCRIPTION:The StraitJacket encourages audiences wear an extinct animal co
 stume while belting out karaoke pop songs that are lyrically rich with tal
 es of evolution.
DTSTAMP:20260419T235312Z
END:VEVENT
BEGIN:VTIMEZONE
TZID:Australia/Sydney
X-LIC-LOCATION:Australia/Sydney
END:VTIMEZONE
END:VCALENDAR