BEGIN:VCALENDAR
VERSION:2.0
PRODID:floktu.com
X-PUBLISHED-TTL:P1W
BEGIN:VEVENT
UID:FloktuSchedule18738@floktu.com
DTSTART:20141003T100000Z
SEQUENCE:0
TRANSP:OPAQUE
DTEND:20141003T120000Z
LOCATION:The Crack House\, 854 Hunter Street\, Newcastle West\, New South W
 ales
SUMMARY:This is Not Art - The Evolutionary Straitjacket: Climate Change Kar
 aoke
DESCRIPTION:The StraitJacket encourages audiences wear an extinct animal co
 stume while belting out karaoke pop songs that are lyrically rich with tal
 es of evolution.
DTSTAMP:20260419T235111Z
END:VEVENT
END:VCALENDAR